BEGIN:VCALENDAR
VERSION:2.0
PRODID:-//ChamberMaster//Event Calendar 2.0//EN
METHOD:PUBLISH
X-PUBLISHED-TTL:P3D
REFRESH-INTERVAL:P3D
CALSCALE:GREGORIAN
BEGIN:VEVENT
DTSTART:20160502T183000Z
DTEND:20160502T193000Z
X-MICROSOFT-CDO-ALLDAYEVENT:FALSE
SUMMARY:Social Media for Small Businesses
DESCRIPTION:Wondering how YOU can leverage social media as a small business owner/employee? Anita Crawford of Springboard Entertainment will talk you through how to determine where to find your target customers and reach out to them effectively through social media so you see results.\n\n\n\nThis event is FREE to attend\, but advanced registration is requested.\n\n\n\n-------------------------\n\n\n\nThis event is part of a series hosted for National Small Business Week from May 1-7. Learn more about all of the events planned for the week: National Small Business Week Events.
X-ALT-DESC;FMTTYPE=text/html:Wondering how YOU can leverage social media as a small business owner/employee?&nbsp\;Anita Crawford of Springboard Entertainment will&nbsp\;<span style="color: rgb(63\, 63\, 63)\; font-family: Oxygen\, Arial\, 'Helvetica Neue'\, Helvetica\, sans-serif\; font-size: 16px\; line-height: 20.8px\;">talk you through how to determine where to find your target customers and reach out to them effectively through social media so you see results.<br />\n<br />\nThis event is FREE to attend\, but advanced registration is requested.<br />\n<br />\n-------------------------<br />\n<br />\nThis event is part of a series hosted for National Small Business Week from May 1-7. Learn more about all of the events planned for the week: <a href="http://business.chambersburg.org/events/details/national-small-business-week-2016-19141">National Small Business Week Events</a>.</span>
LOCATION:Chamber of Commerce 100 Lincoln Way East Chambersburg\, PA 17201
UID:e.1180.19167
SEQUENCE:3
DTSTAMP:20260420T140407Z
URL:https://business.chambersburg.org/events/details/social-media-for-small-businesses-05-02-2016-19167
END:VEVENT

END:VCALENDAR
