BEGIN:VCALENDAR
VERSION:2.0
PRODID:-//ChamberMaster//Event Calendar 2.0//EN
METHOD:PUBLISH
X-PUBLISHED-TTL:P3D
REFRESH-INTERVAL:P3D
CALSCALE:GREGORIAN
BEGIN:VEVENT
DTSTART:20160502T200000Z
DTEND:20160502T210000Z
X-MICROSOFT-CDO-ALLDAYEVENT:FALSE
SUMMARY:Marketing Your Small Business
DESCRIPTION:Social media is a great way to reach customers\, but there are other marketing options that should be on your radar as well. In this hour\, Crawford will focus on must-have strategies for your marketing plan and how to determine where to spend your marketing dollars.\n\n\n\nThis event is FREE to attend\, but advanced registration is requested.\n\n\n\n-------------------------\n\n\n\nThis event is part of a series hosted for National Small Business Week from May 1-7. Learn more about all of the events planned for the week: National Small Business Week Events.
X-ALT-DESC;FMTTYPE=text/html:<span style="color: rgb(63\, 63\, 63)\; font-family: Oxygen\, Arial\, 'Helvetica Neue'\, Helvetica\, sans-serif\; font-size: 16px\; line-height: 20.8px\;">Social media is a great way to reach customers\, but there are other marketing options that should be on your radar as well. In this hour\, Crawford will focus on must-have strategies for your marketing plan and how to determine where to spend your marketing dollars.<br />\n<br />\nThis event is FREE to attend\, but advanced registration is requested.<br />\n<br />\n-------------------------<br />\n<br />\nThis event is part of a series hosted for National Small Business Week from May 1-7. Learn more about all of the events planned for the week: <a href="http://business.chambersburg.org/events/details/national-small-business-week-2016-19141">National Small Business Week Events</a>.</span>
LOCATION:Chamber of Commerce 100 Lincoln Way East Chambersburg\, PA 17201
UID:e.1180.19168
SEQUENCE:3
DTSTAMP:20260420T140341Z
URL:https://business.chambersburg.org/events/details/marketing-your-small-business-05-02-2016-19168
END:VEVENT

END:VCALENDAR
