BEGIN:VCALENDAR
VERSION:2.0
PRODID:-//ChamberMaster//Event Calendar 2.0//EN
METHOD:PUBLISH
X-PUBLISHED-TTL:P3D
REFRESH-INTERVAL:P3D
CALSCALE:GREGORIAN
BEGIN:VEVENT
DTSTART:20160503T160000Z
DTEND:20160503T170000Z
X-MICROSOFT-CDO-ALLDAYEVENT:FALSE
SUMMARY:Digital Marketing Strategies
DESCRIPTION:Learn from the pros as Tyler and Trevor\, owners of Cross & Crown\, talk about improving your digital marketing strategies including web design and integrating video in marketing.\n\n\n\nThis event is FREE to attend\, but advanced registration is requested. Lunch will be provided by the Chamber.\n\n\n\n-------------------------\n\n\n\nThis event is part of a series hosted for National Small Business Week from May 1-7. Learn more about all of the events planned for the week: National Small Business Week Events.
X-ALT-DESC;FMTTYPE=text/html:<span style="color: rgb(63\, 63\, 63)\; font-family: Oxygen\, Arial\, 'Helvetica Neue'\, Helvetica\, sans-serif\; font-size: 16px\; line-height: 20.8px\;">Learn from the pros as Tyler and Trevor\, owners of Cross &amp\; Crown\, talk about improving your digital marketing strategies including web design and integrating video in marketing.<br />\n<br />\nThis event is FREE to attend\, but advanced registration is requested. Lunch will be provided by the Chamber.<br />\n<br />\n-------------------------<br />\n<br />\nThis event is part of a series hosted for National Small Business Week from May 1-7. Learn more about all of the events planned for the week: <a href="http://business.chambersburg.org/events/details/national-small-business-week-2016-19141">National Small Business Week Events</a>.</span>
LOCATION:Chamber of Commerce 100 Lincoln Way East Chambersburg\, PA 17201
UID:e.1180.19169
SEQUENCE:3
DTSTAMP:20260420T140510Z
URL:https://business.chambersburg.org/events/details/digital-marketing-strategies-05-03-2016-19169
END:VEVENT

END:VCALENDAR
