BEGIN:VCALENDAR
VERSION:2.0
PRODID:-//ChamberMaster//Event Calendar 2.0//EN
METHOD:PUBLISH
X-PUBLISHED-TTL:P3D
REFRESH-INTERVAL:P3D
CALSCALE:GREGORIAN
BEGIN:VEVENT
DTSTART:20250517T130000Z
DTEND:20250517T170000Z
X-MICROSOFT-CDO-ALLDAYEVENT:FALSE
SUMMARY:The Tide Race to Share the Gospel Around the World with FREE Family Fun Day
DESCRIPTION:Come enjoy a fun-filled day with family and friends\, including: \n\n\n	Prizes\n	Games\n	Activities\n	Inflatable\n	Give Aways\n	Picnic Lunch\n	Sponsor Booths\n\n\n\nSchedule\n\n8:00-9:00   Race Packet Pickup (or 9-3 at The Tide office on Friday\, May 16th)\n\n9:00-1:00   Games\, Family-Fun Activities\, and Sponsor Booths Open\n\n9:20   *1-Mile Fun Run/Walk\n\n10:00   *5K Run/Walk\n\n11:15/30   FREE Lunch\n\n12:15 - Medal Ceremony and Door Prize Drawings (must be present to win)\n\n*Paid registration required for these events.
X-ALT-DESC;FMTTYPE=text/html:Come enjoy a fun-filled day with family and friends\, including:&nbsp\;\n<div>\n<ul>\n	<li><span style="color:rgb(0\, 0\, 0)">Prizes</span></li>\n	<li><span style="color:rgb(0\, 0\, 0)">Games</span></li>\n	<li><span style="color:rgb(0\, 0\, 0)">Activities</span></li>\n	<li><span style="color:rgb(0\, 0\, 0)">Inflatable</span></li>\n	<li><span style="color:rgb(0\, 0\, 0)">Give Aways</span></li>\n	<li><span style="color:rgb(0\, 0\, 0)">Picnic Lunch</span></li>\n	<li><span style="color:rgb(0\, 0\, 0)">Sponsor Booths</span></li>\n</ul>\n</div>\n\n<p><u>Schedule</u><br />\n8:00-9:00 &ndash\; Race Packet Pickup (or 9-3 at The Tide office on Friday\, May 16th)</p>\n\n<p>9:00-1:00 &ndash\; Games\, Family-Fun Activities\, and Sponsor Booths Open</p>\n\n<p>9:20 &ndash\; *1-Mile Fun Run/Walk</p>\n\n<p>10:00 &ndash\; *5K Run/Walk</p>\n\n<p>11:15/30 &ndash\; FREE Lunch</p>\n\n<p>12:15 - Medal Ceremony and Door Prize Drawings (must be present to win)</p>\n\n<p>*Paid registration required for these events.</p>\n
LOCATION:Norlo Park 3050 Lincoln Way E Pavilion 1 and 2 Fayetteville\, PA
UID:e.1180.40897
SEQUENCE:3
DTSTAMP:20260420T140652Z
URL:https://business.chambersburg.org/events/details/the-tide-race-to-share-the-gospel-around-the-world-with-free-family-fun-day-40897
END:VEVENT

END:VCALENDAR
