BEGIN:VCALENDAR
VERSION:2.0
PRODID:-//ChamberMaster//Event Calendar 2.0//EN
METHOD:PUBLISH
X-PUBLISHED-TTL:P3D
REFRESH-INTERVAL:P3D
CALSCALE:GREGORIAN
BEGIN:VEVENT
DTSTART:20260502T150000Z
DTEND:20260502T200000Z
X-MICROSOFT-CDO-ALLDAYEVENT:FALSE
SUMMARY:Teacher Appreciation Day at Adams County Winery
DESCRIPTION:We're celebrating educators with a special thank-you during Teacher Appreciation Week! This event is open to the public\, however\, teachers are invited to register for a complimentary pour of wine on Saturday May 2nd. Registration will be open to the first 325 educators\, one registration per individual. On May 2nd\, all registered guests will come to Adams County Winery   Orrtanna\, PA\, Farm Winery Location ONLY\, and present valid school identification upon redemption. Please bring your standard photo ID as well for age verification. Registrations for the free pour are only open to those who are 21 years of age or older.\n\nWe are recognizing the dedication and impact teachers bring to their classrooms and communities. The Farm Winery is open to all guests on this day so we invite you to come out\, even if you are not associated with the school district in your area. Live music will be provided by Staff Infection\, a band made up of local educators\, performing from 1 p.m. to 4 p.m. on the winery grounds.\n\nGuests attending the event can also visit the Terrace Bistro\, which will be open serving wood-fired pizzas and pretzels\, offering a casual dining option to pair with wine while enjoying the scenic vineyard setting.\n\nWine redemptions are open 11am   4:30pm. Don't wait to register as we do expect this event to sell out.\n\nAdams County Winery will have its award-winning wines available in addition to local craft beer\, and snacks\, including cheese and crackers and gourmet meat and cheese plates! The Terrace Bistro will be open 11am-4pm\, serving wood-fired pizzas and pretzels.\n\nThe last call for purchasing onsite drinks will be 30 minutes prior to close. Children are always welcome with supervision. We are pet-friendly at the Farm Winery\, just no pets in the Tasting Room\, please.\n\nThis is a rain-or-shine event
X-ALT-DESC;FMTTYPE=text/html:<p>We&rsquo\;re celebrating educators with a special thank-you during Teacher Appreciation Week! This event is open to the public\, however\, teachers are invited to register for a complimentary pour of wine on Saturday May 2nd. Registration will be open to the first 325 educators\, one registration per individual. On May 2nd\, all registered guests will come to Adams County Winery &ndash\; Orrtanna\, PA\, Farm Winery Location ONLY\, and present valid school identification upon redemption. Please bring your standard photo ID as well for age verification. Registrations for the free pour are only open to those who are 21 years of age or older.</p>\n\n<p>We are recognizing the dedication and impact teachers bring to their classrooms and communities. The Farm Winery is open to all guests on this day so we invite you to come out\, even if you are not associated with the school district in your area.&nbsp\;Live music will be provided by Staff Infection\, a band made up of local educators\, performing from 1 p.m. to 4 p.m. on the winery grounds.</p>\n\n<p>Guests attending the event can also visit the Terrace Bistro\, which will be open serving wood-fired pizzas and pretzels\, offering a casual dining option to pair with wine while enjoying the scenic vineyard setting.</p>\n\n<p>Wine redemptions are open 11am &ndash\; 4:30pm. Don&rsquo\;t wait to register as we do expect this event to sell out.</p>\n\n<p>Adams County Winery will have its award-winning wines available in addition to local craft beer\, and snacks\, including cheese and crackers and gourmet meat and cheese plates! The Terrace Bistro will be open 11am-4pm\, serving wood-fired pizzas and pretzels.</p>\n\n<p>The last call for purchasing onsite drinks will be 30 minutes prior to close. Children are always welcome with supervision. We are pet-friendly at the Farm Winery\, just no pets in the Tasting Room\, please.</p>\n\n<p>This is a rain-or-shine event</p>\n
LOCATION:251 Peach Tree Rd. Orrtanna\, PA
UID:e.1180.42629
SEQUENCE:3
DTSTAMP:20260423T080040Z
URL:https://business.chambersburg.org/events/details/teacher-appreciation-day-at-adams-county-winery-42629
END:VEVENT

END:VCALENDAR
