BEGIN:VCALENDAR
VERSION:2.0
PRODID:-//ChamberMaster//Event Calendar 2.0//EN
METHOD:PUBLISH
X-PUBLISHED-TTL:P3D
REFRESH-INTERVAL:P3D
CALSCALE:GREGORIAN
BEGIN:VEVENT
DTSTART;VALUE=DATE:20160501
DTEND;VALUE=DATE:20160508
TRANSP:TRANSPARENT
X-MICROSOFT-CDO-ALLDAYEVENT:TRUE
SUMMARY:National Small Business Week 2016
DESCRIPTION:National Small Business Week recognizes the critical contributions of America's entrepreneurs and small business owners. To celebrate\, the Chamber is organizing several free events to highlight the impact of small business owners in our area and provide them with valuable information and resources. Events include:\n\n \nMonday\, May 2\nSocial Media for Small Businesses - 2:30-3:30 p.m. at the Chamber of Commerce\, 100 Lincoln Way East - FREE\n\nAnita Crawford of Springboard Entertainment will talk you through how to determine where to find your target customers and reach out to them effectively through social media so you see results.\n\n\n\nMarketing Your Small Business: 4-5 p.m. at the Chamber of Commerce\, 100 Lincoln Way East - FREE\n\nSocial media is a great way to reach customers\, but there are other marketing options that should be on your radar as well. In this hour\, Crawford will focus on must-have strategies for your marketing plan and how to determine where to spend your marketing dollars.\n\n \nTuesday\, May 3\nDigital Marketing Strategies: Noon-1 p.m. at the Chamber of Commerce\, 100 Lincoln Way East - FREE\n\nLearn from the pros as Tyler and Trevor\, owners of Cross & Crown\, talk about improving your digital marketing strategies including web design and integrating video in marketing.\n\n \nWednesday\, May 4\nAccessing Capital for Small Business: Noon-2 p.m. at the Chamber of Commerce\, 100 Lincoln Way East - FREE\n\nHear from a panel of experts as they discuss the resources and opportunities available to small businesses and how your business can benefit.\n\n \nThursday\, May 5\nCinco de Mayo Regional Fiesta Mixer: 5 to 7:30 p.m. at the Conference Center at Shippensburg University\, 500 Newburg Road\, Shippensburg - FREE\n\nThis is your chance to network with over 500 individuals from more than 350 companies! Join us for this popular\, annual mixer.\n\n \nFriday\, May 6\nLeadercast 2016: Architects of Tomorrow: 8 a.m. to 4:30 p.m. at Shippensburg University's Tuscarora Room\, 1871 Old Main Drive\, Shippensburg - $99 \n\nLeadercast is the largest one-day leadership event in the world featuring global leaders discussing what it means to be a visionary leader. Broadcast live from Atlanta\, you can watch Leaderscast speakers like Steve Wozniak\, co-founder of Apple\, right here in our area thanks to Leadership Franklin County Advanced. Details and registration are available here. Registration deadline is April 28.\n\n\n\nFor questions about National Small Business Week or to register for any of these events\, contact Scott Fish\, events coordinator\, at sfish@chambersburg.org or 717-264-7101 ext. 212.
X-ALT-DESC;FMTTYPE=text/html:National Small Business Week recognizes the critical contributions of America&rsquo\;s entrepreneurs and small business owners.&nbsp\;To celebrate\, the Chamber is organizing several <em><strong>free </strong></em>events to highlight the impact of small business owners in our area and provide them with valuable information and resources. Events include:<br />\n&nbsp\;\n<h3><strong>Monday\, May 2</strong></h3>\n<strong><a href="http://business.chambersburg.org/events/details/social-media-for-small-businesses-19167"><u>Social Media for Small Businesses</u></a> - 2:30-3:30 p.m. at the Chamber of Commerce\, 100 Lincoln Way East - FREE</strong><br />\nAnita Crawford of Springboard Entertainment will talk you through how to determine where to find your target customers and reach out to them effectively through social media so you see results.<br />\n<br />\n<strong><a href="http://business.chambersburg.org/events/details/marketing-your-small-business-19168"><u>Marketing Your Small Business</u></a>: 4-5 p.m. at the Chamber of Commerce\, 100 Lincoln Way East - FREE</strong><br />\nSocial media is a great way to reach customers\, but there are other marketing options that should be on your radar as well. In this hour\, Crawford will focus on must-have strategies for your marketing plan and how to determine where to spend your marketing dollars.<br />\n&nbsp\;\n<h3><strong>Tuesday\, May 3</strong></h3>\n<strong><a href="http://business.chambersburg.org/events/details/digital-marketing-strategies-19169"><u>Digital Marketing Strategies</u></a>: Noon-1 p.m. at the Chamber of Commerce\, 100 Lincoln Way East - FREE</strong><br />\nLearn from the pros as Tyler and Trevor\, owners of Cross &amp\; Crown\, talk about improving your digital marketing strategies including web design and integrating video in marketing.<br />\n&nbsp\;\n<h3><strong>Wednesday\, May 4</strong></h3>\n<strong><a href="http://business.chambersburg.org/events/details/accessing-capital-for-small-business-19170"><u>Accessing Capital for Small Business</u></a>: Noon-2 p.m. at the Chamber of Commerce\, 100 Lincoln Way East - FREE</strong><br />\nHear from a panel of experts as they discuss the resources and opportunities available to small businesses and how your business can benefit.<br />\n&nbsp\;\n<h3><strong>Thursday\, May 5</strong></h3>\n<strong><a href="http://business.chambersburg.org/events/details/cinco-de-mayo-19076"><u>Cinco de Mayo Regional Fiesta Mixer</u></a>: 5 to 7:30 p.m. at the Conference Center at Shippensburg University\, 500 Newburg Road\, Shippensburg - FREE</strong><br />\nThis is your chance to network with over 500 individuals from more than 350 companies! Join us for this popular\, annual mixer.<br />\n&nbsp\;\n<h3><strong>Friday\, May 6</strong></h3>\n<strong><u><a href="http://business.chambersburg.org/events/details/leadercast-franklin-county-2016-17873">Leadercast 2016: Architects of Tomorrow</a></u>: 8 a.m. to 4:30 p.m. at Shippensburg University&rsquo\;s Tuscarora Room\, 1871 Old Main Drive\, Shippensburg - $99&nbsp\;</strong><br />\nLeadercast is the largest one-day leadership event in the world featuring global leaders discussing what it means to be a visionary leader. Broadcast live from Atlanta\, you can watch Leaderscast speakers like Steve Wozniak\, co-founder of Apple\, right here in our area thanks to Leadership Franklin County Advanced. Details and registration are available <a href="http://business.chambersburg.org/events/details/leadercast-franklin-county-2016-17873">here</a>. Registration deadline is April 28.<br />\n<br />\n<em>For questions about National Small Business Week or to register for any of these events\, contact Scott Fish\, events coordinator\, at <a href="mailto:kclapper@chambersburg.org?subject=Small%20Business%20Week">sfish@chambersburg.org</a> or 717-264-7101 ext. 212.</em>
LOCATION:
UID:e.1180.19141
SEQUENCE:3
DTSTAMP:20260420T123435Z
URL:https://business.chambersburg.org/events/details/national-small-business-week-2016-05-01-2016-19141
END:VEVENT

END:VCALENDAR
