BEGIN:VCALENDAR
VERSION:2.0
PRODID:-//ChamberMaster//Event Calendar 2.0//EN
METHOD:PUBLISH
X-PUBLISHED-TTL:P3D
REFRESH-INTERVAL:P3D
CALSCALE:GREGORIAN
BEGIN:VEVENT
DTSTART:20230603T140000Z
DTEND:20230603T180000Z
X-MICROSOFT-CDO-ALLDAYEVENT:FALSE
SUMMARY:Model Trains & Accessories Auction
DESCRIPTION:Public Auction Live In-house & Live Online Stream\n\nModel Trains & Accessories\n\nWill sell at GATEWAY GALLERY AUCTION - 643 Kriner Rd\, Chambersburg\, PA on:\n\nSaturday\, June 3 at 10:00 AM\nMODEL TRAINS: (444) Cataloged lots. Featured lots include Williams: E7-200 Atlantic Coast Line E-7 AA Diesels #526 and #529 W/True Blast II Digital Horn/Bell/Mars Light OB/Mailing Carton\; GP-9-236 Southern Pacific Black Widow GP-9 Diesel #5641 W/True Blast II Digital Horn/Bell OB\; MTH: 20-2154-1 BNSF SD-70 MAC Diesel #9966 W/ProtoSound OB\; (5) Great Northern Rolling Stock: 20-97130 Coalporter/Load\, 20-90028 B Covered Gondola\, 20-90006c Flat/2 GN Pups\, 20-90006e 50' Boxcar\, 20-94120 40' Reefer (WFE)\; (4) Union Pacific Hoppers: 20-90022E Rapid Discharge/Rock Load\, 20-97585 4 Bay/Load\, 20-90023A 4 Bay/Load\, 20-90022D Coalporter/NO LOAD\; Rail-King: 30-2303-0 Santa Fe C628 Diesel #357 w/Loco-Sound OB\; 30-1129-1 Union Pacific 4-8-8-4 Big Boy Steam Loco #4020 W/Electronic Whistle/ProtoSmoke/ProtoSounds OB\; Atlas N Gauge: #2006 Santa Fe Train Set: E-8 Diesel\, Nat'l Dairy Reefer\, Bulkhead Flat/Lumber\, Caboose\, Track\, In Set Box\; No Transformer\; Postwar Lionel: 6817 Flatcar/Scraper OB (Appears Connecting Pin Has Been Glued On Tractor)\; 2031 Rock Island Alco AA Diesels W/Wrapping Paper/Instr/Master Carton/Inserts\; Canadian Pacific Passenger Cars: 2551 Banff Park Obs\, (3) Skyline 500 Vista Domes OB W/Madison Hardware Stickers\; 2373 Canadian Pacific F-3 AA Diesels OB/Madison Hardware Stickers (Hole and Writing on 2373T)\; 773/736W Hudson Loco and PRR Tender OB\, Bottle of SP Smoke Pellets/Stack Cleaner\; Balboa Scale Models: Brass PRR E-8 A&B Passenger Diesels W/Tuscan/Pinstripe Paint (2 Marks on Pinstriping on a Unit)\; 3RD Rail by Sunset Models: PRR Brass S-2 6-8-6 Turbine Scale Locomotive/Tender #6200\n\nUNCATALOGED: Traylots include Lionel HO\, HO track\, switches and rolling stock\, art supplies\, HO wooden display box\, railroad magazines\, train catalogs\, railroad employee timetables and rulebooks\, construction toys\, Gargraves track\, Lionel parts and rolling stock\, switches\, track and instruction sheets. \n\nAUCTIONEER'S NOTE: This auctions includes a large selection of MTH Premier Rolling Stock. There is a small selection of HO Brass items and other HO items. Postwar Lionel is well represented with some upscale locomotives and nice rolling stock in original boxes. The sale is rounded out with Rail King and a nice selection of Williams engines.\n\n \n\nCataloged items begin promptly at 10 AM. Live online bidding through our website OR Invaluable/AuctionZip. Uncataloged traylots sold after catalog items - no online bidding for uncataloged traylots. Complete catalog online - Printed catalog upon request\n\nPreview Friday\, June 2 from 3   5 PM and sale day from 8 AM\n\nTERMS: Cash\, check\, Visa\, MC\, Discover accepted. 15 % Buyer's premium applied to in-house & Live online bidding on GatewayAuction.com\, discounted to 10% for cash or good check. 20% buyer's premium applied to Live stream bidding on Invaluable/AuctionZip. Buyers responsible for all shipping costs. Statements made day of sale take precedence. \n\nGATEWAY GALLERY AUCTION INC    \n\nPhone (717) 263-6512\, (800) 315-3265\, AY002190\, AH002001\n\nwww.GatewayAuction.com\n\nAuctioneer Heather R.  Kohler AU005651\n\nAuctioneer John F. Kohler\, Jr. AU000507L
X-ALT-DESC;FMTTYPE=text/html:<div style="text-align: center\;"><span style="font-family:calibri\,sans-serif"><span style="font-size:12.0pt">Public Auction Live In-house &amp\; Live Online Stream</span></span><br />\n<strong><em><span style="font-family:calibri\,sans-serif"><span style="font-size:18.0pt">Model Trains &amp\; Accessories</span></span></em></strong><br />\n<span style="font-family:calibri\,sans-serif"><span style="font-size:11.0pt">Will sell at GATEWAY GALLERY AUCTION - 643 Kriner Rd\, Chambersburg\, PA on:</span></span><br />\n<strong><span style="color:windowtext"><span style="font-family:calibri\,sans-serif"><span style="font-size:18.0pt">Saturday\, June 3 at 10:00 AM</span></span></span></strong></div>\n<strong><span style="font-size:12.0pt">MODEL TRAINS: </span></strong><span style="font-size:12.0pt">(444) Cataloged lots. Featured lots include </span><strong><span style="font-size:12.0pt">Williams:</span></strong><span style="font-size:12.0pt"> E7-200 Atlantic Coast Line E-7 AA Diesels #526 and #529 W/True Blast II Digital Horn/Bell/Mars Light OB/Mailing Carton\; GP-9-236 Southern Pacific Black Widow GP-9 Diesel #5641 W/True Blast II Digital Horn/Bell OB</span><span style="font-size:12.0pt">\; </span><strong><span style="font-size:12.0pt">MTH:</span></strong><span style="font-size:12.0pt"> 20-2154-1 BNSF SD-70 MAC Diesel #9966 W/ProtoSound OB</span><span style="font-size:12.0pt">\;</span><span style="font-size:12.0pt"> (5) Great Northern Rolling Stock: 20-97130 Coalporter/Load\, 20-90028 B Covered Gondola\, 20-90006c Flat/2 GN Pups\, 20-90006e 50&rsquo\; Boxcar\, 20-94120 40&rsquo\; Reefer (WFE)\; (4) Union Pacific Hoppers: 20-90022E Rapid Discharge/Rock Load\, 20-97585 4 Bay/Load\, 20-90023A 4 Bay/Load\, 20-90022D Coalporter/NO LOAD\; <strong>Rail-King:</strong> 30-2303-0 Santa Fe C628 Diesel #357 w/Loco-Sound OB\; 30-1129-1 Union Pacific 4-8-8-4 Big Boy Steam Loco #4020 W/Electronic Whistle/ProtoSmoke/ProtoSounds OB\; <strong>Atlas N Gauge:</strong> #2006 Santa Fe Train Set: E-8 Diesel\, Nat&rsquo\;l Dairy Reefer\, Bulkhead Flat/Lumber\, Caboose\, Track\, In Set Box\; No Transformer\; <strong>Postwar Lionel:</strong> 6817 Flatcar/Scraper OB (Appears Connecting Pin Has Been Glued On Tractor)\; 2031 Rock Island Alco AA Diesels W/Wrapping Paper/Instr/Master Carton/Inserts\; Canadian Pacific Passenger Cars: 2551 Banff Park Obs\, (3) Skyline 500 Vista Domes OB W/Madison Hardware Stickers\; 2373 Canadian Pacific F-3 AA Diesels OB/Madison Hardware Stickers (Hole and Writing on 2373T)\; 773/736W Hudson Loco and PRR Tender OB\, Bottle of SP Smoke Pellets/Stack Cleaner\; <strong>Balboa Scale Models:</strong> Brass PRR E-8 A&amp\;B Passenger Diesels W/Tuscan/Pinstripe Paint (2 Marks on Pinstriping on a Unit)\; <strong>3RD Rail by Sunset Models:</strong> PRR Brass S-2 6-8-6 Turbine Scale Locomotive/Tender #6200</span><br />\n<strong><span style="color:windowtext"><span style="font-family:calibri\,sans-serif"><span style="font-size:12.0pt">UNCATALOGED: </span></span></span></strong><span style="font-family:calibri\,sans-serif"><span style="font-size:12.0pt">Traylots include Lionel HO\, HO track\, switches and rolling stock\, art supplies\, HO wooden display box\, railroad magazines\, train catalogs\, railroad employee timetables and rulebooks\, construction toys\, Gargraves track\, Lionel parts and rolling stock\, switches\, track and instruction sheets. </span></span><br />\n<strong><span style="font-family:calibri\,sans-serif"><span style="font-size:12.0pt">AUCTIONEER&rsquo\;S NOTE: </span></span></strong><span style="font-family:calibri\,sans-serif"><span style="font-size:12.0pt">This auctions includes a large selection of MTH Premier Rolling Stock. There is a small selection of HO Brass items and other HO items. Postwar Lionel is well represented with some upscale locomotives and nice rolling stock in original boxes. The sale is rounded out with Rail King and a nice selection of Williams engines.</span></span><br />\n&nbsp\;<br />\n<span style="font-family:calibri\,sans-serif"><span style="font-size:12.0pt">Cataloged items begin promptly at 10 AM. Live online bidding through our website OR Invaluable/AuctionZip. Uncataloged traylots sold after catalog items - no online bidding for uncataloged traylots. <strong>Complete catalog online - </strong><em>Printed catalog upon request</em></span></span><br />\n<strong><span style="font-family:calibri\,sans-serif"><span style="font-size:12.0pt">Preview Friday\, June 2 from 3 &ndash\; 5 PM and sale day from 8 AM</span></span></strong><br />\n<strong><span style="color:windowtext"><span style="font-family:calibri\,sans-serif"><span style="font-size:12.0pt">TERMS:</span></span></span></strong> <span style="font-family:calibri\,sans-serif"><span style="font-size:12.0pt">Cash\, check\, Visa\, MC\, Discover accepted. <strong>15 % Buyer&rsquo\;s premium</strong> applied to in-house &amp\; Live online bidding on GatewayAuction.com\, discounted to 10% for cash or good check. <strong>20% buyer&rsquo\;s premium </strong>applied to Live stream bidding on Invaluable/AuctionZip. Buyers responsible for all shipping costs. Statements made day of sale take precedence.</span></span>&nbsp\;\n\n<h1 style="text-align: center\;"><span style="color:windowtext"><span style="font-family:calibri\,sans-serif"><span style="font-size:18.0pt">GATEWAY GALLERY AUCTION </span></span></span><span style="color:windowtext"><span style="font-family:calibri\,sans-serif"><span style="font-size:12.0pt">INC&nbsp\; </span></span></span>&nbsp\;&nbsp\;</h1>\n\n<div style="text-align: center\;"><span style="color:windowtext"><span style="font-family:calibri\,sans-serif">Phone (717) 263-6512\, (800) 315-3265\, AY002190\, AH002001</span></span><br />\n<strong><span style="color:windowtext"><span style="font-family:calibri\,sans-serif"><span style="font-size:20.0pt">www.GatewayAuction.com</span></span></span></strong></div>\n\n<h5 style="text-align: center\;"><span style="color:windowtext"><span style="font-family:calibri\,sans-serif"><span style="font-size:16.0pt">Auctioneer Heather R.&nbsp\; Kohler AU005651</span></span></span></h5>\n\n<h5 style="text-align: center\;"><span style="color:windowtext"><span style="font-family:calibri\,sans-serif"><span style="font-size:16.0pt">Auctioneer John F. Kohler\, Jr. AU000507L</span></span></span></h5>\n\n<h5>&nbsp\;</h5>\n
LOCATION:GATEWAY GALLERY AUCTION - 643 Kriner Rd\, Chambersburg\, PA
UID:e.1180.38433
SEQUENCE:3
DTSTAMP:20260423T090828Z
URL:https://business.chambersburg.org/events/details/model-trains-accessories-auction-06-03-2023-38433
END:VEVENT

END:VCALENDAR
