BEGIN:VCALENDAR
VERSION:2.0
PRODID:-//ChamberMaster//Event Calendar 2.0//EN
METHOD:PUBLISH
X-PUBLISHED-TTL:P3D
REFRESH-INTERVAL:P3D
CALSCALE:GREGORIAN
BEGIN:VEVENT
DTSTART;VALUE=DATE:20260429
DTEND;VALUE=DATE:20260430
TRANSP:TRANSPARENT
X-MICROSOFT-CDO-ALLDAYEVENT:TRUE
SUMMARY:MARSHVIEW DR Estate Closing April 29th
DESCRIPTION:MARSHVIEW DR Estate Closing April 29th with Sleep Number 360 Smart bed\; leather sofas & recliner\; elec fireplace/cabinet\; oak desk\; Rosewood sewing cabinet\; patio set\; GOLD/SILVER jewelry\; 19th Century ICE SKATES COLLECTION\; foreign musical instruments\; Crosley & Philco radios\; Waterford crystal\; Cal Ripken baseball\; 30in nutcracker\; NYCS RR lantern\; RR books\; slotcar accessories\; Gerhard C.F. Miller books\; coins\; clocks\; world travel souvenirs\; binoculars\; RC & model airplanes\; drones\; smart watch\; vinyl records\; Dell computers\; TOOLS\; more. \n\nPREVIEW: Apr 28\, 4-6pm at 504C Marshview Dr\, Waynesboro PA 17268\n\nVIEW DETAILS: https://bidon.hurleyauctions.com/auctions/409-504c-marshview-drive-waynesboro-pa-17268
X-ALT-DESC;FMTTYPE=text/html:MARSHVIEW DR Estate Closing April 29th with Sleep Number 360 Smart bed\; leather sofas &amp\; recliner\; elec fireplace/cabinet\; oak desk\; Rosewood sewing cabinet\; patio set\; GOLD/SILVER jewelry\; 19th Century ICE SKATES COLLECTION\; foreign musical instruments\; Crosley &amp\; Philco radios\; Waterford crystal\; Cal Ripken baseball\; 30in nutcracker\; NYCS RR lantern\; RR books\; slotcar accessories\; Gerhard C.F. Miller books\; coins\; clocks\; world travel souvenirs\; binoculars\; RC &amp\; model airplanes\; drones\; smart watch\; vinyl records\; Dell computers\; TOOLS\; more.&nbsp\;<br />\nPREVIEW: Apr 28\, 4-6pm at 504C Marshview Dr\, Waynesboro PA 17268<br />\nVIEW DETAILS: https://bidon.hurleyauctions.com/auctions/409-504c-marshview-drive-waynesboro-pa-17268<br />\n<br />\n&nbsp\;
LOCATION:504C Marshview Dr\, Waynesboro PA 17268
UID:e.1180.42690
SEQUENCE:3
DTSTAMP:20260423T162225Z
URL:https://business.chambersburg.org/events/details/marshview-dr-estate-closing-april-29th-42690
END:VEVENT

END:VCALENDAR
