BEGIN:VCALENDAR
VERSION:2.0
PRODID:-//ChamberMaster//Event Calendar 2.0//EN
METHOD:PUBLISH
X-PUBLISHED-TTL:P3D
REFRESH-INTERVAL:P3D
CALSCALE:GREGORIAN
BEGIN:VEVENT
DTSTART:20230921T110000Z
DTEND:20230922T003000Z
X-MICROSOFT-CDO-ALLDAYEVENT:FALSE
SUMMARY:Healing Together Grief Support Group
DESCRIPTION:The Healing Together Support Group meets the 3rd Thursday of each month from 7-8:30 p.m. at the Drew's Hope Grief Center\, 946 Ashton Dr.\, Shippensburg\, PA.  This education/discussion-based group is for any adults who are grieving the death of a loved one.  RSVPs are requested when attending this group so we know how many chairs to set up (email us at drewmichaeltaylor@pa.net) and so we can notify participants if the group needs to be cancelled for any reason.
X-ALT-DESC;FMTTYPE=text/html:The&nbsp\;Healing Together Support Group&nbsp\;meets the 3rd Thursday of each month from 7-8:30 p.m. at the Drew&rsquo\;s Hope Grief Center\, 946 Ashton Dr.\, Shippensburg\, PA.&nbsp\; This education/discussion-based group is for any adults who are grieving the death of a loved one.&nbsp\; RSVPs are requested when attending this group so we know how many chairs to set up (email us at&nbsp\;drewmichaeltaylor@pa.net) and so we can notify participants if the group needs to be cancelled for any reason.<br />\n&nbsp\;
LOCATION:946 Ashton Drive\, Shippensburg\, PA\, 17257
UID:e.1180.37795
SEQUENCE:3
DTSTAMP:20260424T073909Z
URL:https://business.chambersburg.org/events/details/healing-together-grief-support-group-09-21-2023-37795
END:VEVENT

END:VCALENDAR
