BEGIN:VCALENDAR
VERSION:2.0
PRODID:-//ChamberMaster//Event Calendar 2.0//EN
METHOD:PUBLISH
X-PUBLISHED-TTL:P3D
REFRESH-INTERVAL:P3D
CALSCALE:GREGORIAN
BEGIN:VEVENT
DTSTART:20150718T130000Z
DTEND:20150718T150000Z
X-MICROSOFT-CDO-ALLDAYEVENT:FALSE
SUMMARY:CVSM Camp Performances
DESCRIPTION:The Cumberland Valley School of Music will host two performances on Saturday\, July 18:\n\n\n\n CVSM Voice & Drama Camp presents "Annie"\n\n9:00 AM at First United Methodist Church (225 S. 2nd Street)\n\nFREE Admission\n\n \n\nThe students of the CVSM Voice & Drama Camp present scenes and songs from "Annie." During the week-long camp\, students participate in vocal lessons\, drama sessions\, and choreography sessions that combine together for one fantastic performance. Come with us on a virtual trip to New York City as we follow the adventures of Little Orphan Annie and her friends!\n\n \n\nSam's Music Camp Performance\n\n10:00 AM at First United Methodist Church (225 S. 2nd Street)\n\nFREE admission\n\n \n\nSam's Music Camp is a collaboration between the Chambersburg YMCA and Cumberland Valley School of Music. Since 1997\, children who are part of the Sam's Club program at the YMCA participate in the Music Camp at no cost to their family. During the week-long camp\, the children participate in dance activities\, learn songs\, and create visual art projects. This performance is the culmination of the activities\, and the children will perform the songs and dances they have learned.\n\n\n\nThe CVSM performances are part of the ChambersFest celebration. View the full list of ChambersFest 2015 events.
X-ALT-DESC;FMTTYPE=text/html:<strong><em>The Cumberland Valley School of Music will host two performances on Saturday\, July 18:</em><br />\n<br />\n<span style="font-size:16px\;">&#8203\;CVSM Voice &amp\; Drama Camp presents &ldquo\;Annie&rdquo\;</span></strong><br />\n9:00 AM at First United Methodist Church (225 S. 2<sup>nd</sup> Street)<br />\nFREE Admission<br />\n&nbsp\;<br />\nThe students of the CVSM Voice &amp\; Drama Camp present scenes and songs from &ldquo\;Annie.&rdquo\; During the week-long camp\, students participate in vocal lessons\, drama sessions\, and choreography sessions that combine together for one fantastic performance. Come with us on a virtual trip to New York City as we follow the adventures of Little Orphan Annie and her friends!<br />\n&nbsp\;<br />\n<span style="font-size:16px\;"><strong>Sam&rsquo\;s Music Camp Performance</strong></span><br />\n10:00 AM at First United Methodist Church (225 S. 2<sup>nd</sup> Street)<br />\nFREE admission<br />\n&nbsp\;<br />\nSam&rsquo\;s Music Camp is a collaboration between the Chambersburg YMCA and Cumberland Valley School of Music. Since 1997\, children who are part of the Sam&rsquo\;s Club program at the YMCA participate in the Music Camp at no cost to their family. During the week-long camp\, the children participate in dance activities\, learn songs\, and create visual art projects. This performance is the culmination of the activities\, and the children will perform the songs and dances they have learned.<br />\n<br />\n<span style="font-size: 12px\; line-height: 19.2000007629395px\;">The CVSM performances are part of the&nbsp\;</span>ChambersFest<span style="font-size: 12px\; line-height: 19.2000007629395px\;">&nbsp\;celebration.&nbsp\;</span><span style="font-size: 12px\; color: rgb(63\, 63\, 63)\; font-family: Oxygen\, Arial\, 'Helvetica Neue'\, Helvetica\, sans-serif\; line-height: 20.7999992370605px\;">View the full list of&nbsp\;</span><a href="http://chambersburg.org/pages/ChambersFest/" style="color: rgb(0\, 51\, 153)\; box-sizing: content-box\; text-decoration: none\; bottom: auto\; clear: none\; content: normal\; direction: inherit\; display: inline\; empty-cells: show\; float: none\; font-family: Oxygen\, Arial\, 'Helvetica Neue'\, Helvetica\, sans-serif\; font-size: 16px\; font-stretch: inherit\; left: auto\; line-height: 20.7999992370605px\; margin: 0px\; max-height: none\; max-width: none\; min-height: initial\; min-width: initial\; opacity: 1\; outline: invert none medium\; outline-offset: 0px\; overflow: visible\; padding: 0px\; position: static\; resize: none\; right: auto\; table-layout: auto\; text-overflow: clip\; top: auto\; vertical-align: baseline\; visibility: inherit\; word-break: inherit\; word-wrap: break-word\; z-index: auto\; border: none\; border-collapse: separate\; border-image-source: none\; border-image-slice: 100% 1 0\; border-image-repeat: stretch\; border-radius: 0px\; height: auto\; width: auto\; box-shadow: none\; background-image: none\; background-attachment: initial\; background-size: initial\; background-origin: initial\; background-clip: initial\; background-position: initial\; background-repeat: initial\;">ChambersFest&nbsp\;2015 events</a><span style="font-size: 12px\; color: rgb(63\, 63\, 63)\; font-family: Oxygen\, Arial\, 'Helvetica Neue'\, Helvetica\, sans-serif\; line-height: 20.7999992370605px\;">.</span>
LOCATION:First United Methodist Church 225 South Second Street Chambersburg\, PA
UID:e.1180.15182
SEQUENCE:3
DTSTAMP:20260422T014050Z
URL:https://business.chambersburg.org/events/details/cvsm-camp-performances-07-18-2015-15182
END:VEVENT

END:VCALENDAR
