BEGIN:VCALENDAR
VERSION:2.0
PRODID:-//ChamberMaster//Event Calendar 2.0//EN
METHOD:PUBLISH
X-PUBLISHED-TTL:P3D
REFRESH-INTERVAL:P3D
CALSCALE:GREGORIAN
BEGIN:VEVENT
DTSTART;VALUE=DATE:20260424
DTEND;VALUE=DATE:20260425
TRANSP:TRANSPARENT
X-MICROSOFT-CDO-ALLDAYEVENT:TRUE
SUMMARY:COUNTRY CLUB RD Estate Closing Apr 24th
DESCRIPTION:COUNTRY CLUB RD Estate Closing Apr 24th with OAK LR/DR/BR FURNITURE\; Pennsylvania House BR set\; Pen Mar Park bench\; Victorian side-by-side secretary/ bookcase\; Relax-O-Loungers\; LaZBoy recliner\; GE chest freezer\; Beautyrest mattress\; Singer treadle sewing machine\; Berlin Flyer wagon\; clocks\; Fostoria\; Fenton\; Pyrex\; jadeite\; sterling\; Sentry safe\; fruit crates\; Longabergers\; Thomas Kinkade print\; jewelry\; cast iron\; parlor lamps\; Hess trucks\; local advertising\; Trek bicycle\; Pro-Form treadmill\; Weslo recumbent exercise bike\; TOOLS\; HD shelf units\; more! \n\nPREVIEW: Apr 23\, 4-6pm at 12274 Country Club Rd\, Waynesboro PA 17268 \n\nVIEW DETAILS: https://bidon.hurleyauctions.com/auctions/394-12274-country-club-rd-waynesboro-pa-17268
X-ALT-DESC;FMTTYPE=text/html:COUNTRY CLUB RD Estate Closing Apr 24th with OAK LR/DR/BR FURNITURE\; Pennsylvania House BR set\; Pen Mar Park bench\; Victorian side-by-side secretary/ bookcase\; Relax-O-Loungers\; LaZBoy recliner\; GE chest freezer\; Beautyrest mattress\; Singer treadle sewing machine\; Berlin Flyer wagon\; clocks\; Fostoria\; Fenton\; Pyrex\; jadeite\; sterling\; Sentry safe\; fruit crates\; Longabergers\; Thomas Kinkade print\; jewelry\; cast iron\; parlor lamps\; Hess trucks\; local advertising\; Trek bicycle\; Pro-Form treadmill\; Weslo recumbent exercise bike\; TOOLS\; HD shelf units\; more!&nbsp\;<br />\nPREVIEW: Apr 23\, 4-6pm at 12274 Country Club Rd\, Waynesboro PA 17268&nbsp\;<br />\nVIEW DETAILS: https://bidon.hurleyauctions.com/auctions/394-12274-country-club-rd-waynesboro-pa-17268<br />\n<br />\n&nbsp\;
LOCATION:12274 Country Club Rd\, Waynesboro PA 17268
UID:e.1180.42648
SEQUENCE:3
DTSTAMP:20260420T194647Z
URL:https://business.chambersburg.org/events/details/country-club-rd-estate-closing-apr-24th-42648
END:VEVENT

END:VCALENDAR
