BEGIN:VCALENDAR
VERSION:2.0
PRODID:-//ChamberMaster//Event Calendar 2.0//EN
METHOD:PUBLISH
X-PUBLISHED-TTL:P3D
REFRESH-INTERVAL:P3D
CALSCALE:GREGORIAN
BEGIN:VEVENT
DTSTART:20200326T223000Z
DTEND:20200327T003000Z
X-MICROSOFT-CDO-ALLDAYEVENT:FALSE
SUMMARY:Cancelled- Rose Rent Lofts Historic Presentation
DESCRIPTION:Developer Vern McKissick will speak about the Rose Rent Lofts project\, local history and objects found in the form Central High School building. Hosted by the Franklin County Historical Society\, refreshments will be served at 6:30 p.m. and the talk will begin at 7 p.m. RSVP by calling 717-264-1667.
X-ALT-DESC;FMTTYPE=text/html:Developer Vern McKissick will speak about the Rose Rent Lofts project\, local history and objects found in the form Central High School building. Hosted by the Franklin County Historical Society\, refreshments will be served at 6:30 p.m. and the talk will begin at 7 p.m. RSVP by calling 717-264-1667.
LOCATION:Franklin County Visitors Bureau 11/30 Visitors Center 15 South Main Street Chambersburg\, PA
UID:e.1180.31470
SEQUENCE:3
DTSTAMP:20260424T072422Z
URL:https://business.chambersburg.org/events/details/cancelled-rose-rent-lofts-historic-presentation-31470
END:VEVENT

END:VCALENDAR
