BEGIN:VCALENDAR
VERSION:2.0
PRODID:-//ChamberMaster//Event Calendar 2.0//EN
METHOD:PUBLISH
X-PUBLISHED-TTL:P3D
REFRESH-INTERVAL:P3D
CALSCALE:GREGORIAN
BEGIN:VEVENT
DTSTART:20151003T183000Z
DTEND:20151003T190000Z
X-MICROSOFT-CDO-ALLDAYEVENT:FALSE
SUMMARY:2nd Annual Downtown Chambersburg Duck Derby
DESCRIPTION:Downtown Chambersburg's 2nd Annual Duck Derby will be October 3 at 2:30 p.m.\n\n \nDucks will "swim" down the Falling Spring Creek\, over the falls and race to the finish line near the bridge at Chambers' Fort Park.  Winning Ducks will receive cash prizes.\n\n\n\nDucks are $5 each or $25 for a Quack Pack of 6.  Cash prizes up to $150 will be awarded for 1st\, 2nd\, 3rd\, 4th\, and 5th place ducks. You will receive a souvenir duck with each purchase that can be used as your pass at participating Downtown Chambersburg stores and restaurants on October 3rd to receive discounts. Souvenir ducks may be picked up on October 3rd at the event location.\n\n\n\nGolden Egg Sponsors\n\nAMVETS Post 224\n\nChambersburg Noontime Lions Club\n\nLCSi Lehman Construction Service\, Inc.\n\n\n\nQuackers Sponsor\n\nSunnyHill Properties\n\n\n\nFeathered Friend Sponsors\n\nThe Chambersburg Club\n\nFranklin County Visitors Association\n\n\n\nSign Sponsor\n\nArt Sign of Chambersburg\n\n\n\nInterested in becoming a sponsor\, click here.\n\n\n\nPurchase a Quack Pack (6 ducks) and you can have a rubber duck of your own! Your rubber duck is your pass to Duck Derby Discounts at several downtown businesses throughout the day on October 3\, including:\n\n\n\nC&C Coffee: 15% off drink menu\n\nCaf  d'italia: 15% off\n\nThe Gift Enclosure: 25% off one regularly priced item\n\nHere's Looking at You: 25% off one regularly priced item\n\nLudwig's Jewelry: 10% off entire purchase\n\nMerle Norman: 15% off total purchase\n\nNorwegian Codfather: 10% off all mustards\n\nOlympia Candy Kitchen: $1 off Caramel Apples\n\nThe Vape House: 25% off one regularly priced item\n\n \n Be sure to enjoy all the day's events! Click here to view the full schedule of Oktoberfest events.\n\n\n\nAll proceeds benefit Downtown Revitalization.
X-ALT-DESC;FMTTYPE=text/html:<div style="text-align: center\;"><span style="color:#0099ff\;"><span style="font-size:18px\;"><strong>Downtown Chambersburg&#39\;s 2nd Annual Duck Derby will be October 3 at 2:30 p.m.</strong></span></span><br />\n&nbsp\;</div>\n<span style="font-size:14px\;">Ducks will &quot\;swim&quot\; down the Falling Spring Creek\, over the falls and race to the finish line near the bridge at Chambers&#39\; Fort Park.&nbsp\; Winning Ducks will receive cash prizes.<br />\n<br />\nDucks are $5 each or $25 for a Quack Pack of 6.&nbsp\; Cash prizes up to $150&nbsp\;will be awarded for 1st\, 2nd\, 3rd\, 4th\, and 5th place ducks. You will receive a souvenir duck with each purchase that can be used as your pass at&nbsp\;participating Downtown Chambersburg stores and restaurants on October 3rd to receive discounts.&nbsp\;Souvenir ducks may be picked up on October 3rd at the event location.</span>\n\n<div style="text-align: center\;"><br />\n<span style="font-size:12px\;"><strong><span style="font-size:14px\;"><span style="font-size:18px\;"><span style="color: rgb(255\, 204\, 0)\;">Golden Egg Sponsors</span><br />\n<span style="color: rgb(0\, 153\, 255)\;">AMVETS Post 224<br />\nChambersburg Noontime Lions Club<br />\nLCSi&nbsp\;Lehman Construction Service\,&nbsp\;Inc.</span></span><br />\n<br />\n<span style="font-size:16px\;"><span style="color: rgb(255\, 204\, 0)\;">Quackers Sponsor</span><br />\n<span style="color: rgb(0\, 153\, 255)\;">SunnyHill Properties</span></span><br />\n<br />\n<span style="color: rgb(255\, 204\, 0)\;">Feathered Friend Sponsors</span><br />\n<span style="color: rgb(0\, 153\, 255)\;">The Chambersburg Club<br />\nFranklin County Visitors Association</span><br />\n<br />\n<span style="font-size:12px\;"><span style="color: rgb(255\, 204\, 0)\;">Sign Sponsor</span><br />\n<span style="color: rgb(0\, 153\, 255)\;">Art Sign of Chambersburg</span></span></span></strong></span></div>\n\n<div style="text-align: center\;"><br />\n<em><span style="font-size:14px\;">Interested in becoming a sponsor\, click <a href="http://cloud.chambermaster.com/userfiles/UserFiles/chambers/1180/File/DuckDerbySponsorship.pdf">here</a>.</span></em></div>\n\n<div><br />\n<span style="font-size:14px\;">Purchase a Quack Pack (6 ducks) and you can have a rubber duck of your own!&nbsp\;Your rubber duck is your pass to Duck Derby Discounts at several downtown businesses throughout the day on October 3\, including:<br />\n<br />\nC&amp\;C Coffee: 15% off drink menu<br />\nCaf&eacute\; d&rsquo\;italia:&nbsp\;15% off<br />\nThe Gift Enclosure: 25% off one regularly priced item<br />\nHere&rsquo\;s Looking at You: 25% off one regularly priced item<br />\nLudwig&rsquo\;s Jewelry:&nbsp\;10% off entire purchase<br />\nMerle Norman: 15% off total purchase<br />\nNorwegian Codfather: 10% off all mustards<br />\nOlympia Candy Kitchen: $1 off Caramel Apples<br />\nThe Vape House: 25% off one regularly priced item</span><br />\n&nbsp\;</div>\n<span style="font-size:14px\;"> <strong>Be sure to enjoy all the day&#39\;s events!&nbsp\;<a href="http://business.chambersburg.org/events/details/2nd-annual-oktoberfest-12649">Click here to view the full schedule of Oktoberfest events</a>.</strong><br />\n<br />\nAll proceeds benefit Downtown Revitalization.</span>
LOCATION:The Duck Derby will begin at 2:30 pm in Park of the Valiant (beside the Chambersburg Fire Department Headquarters at 103 North Second Street). The Ducks will "swim" down the Falling Spring Creek to Chambers Fort Park where they will go over the falls and race to the finish line.
UID:e.1180.12650
SEQUENCE:3
DTSTAMP:20260423T081939Z
URL:https://business.chambersburg.org/events/details/2nd-annual-downtown-chambersburg-duck-derby-10-03-2015-12650
END:VEVENT

END:VCALENDAR
